BEGIN:VCALENDAR
VERSION:2.0
PRODID:-//Madison Summer Camp - ECPv6.15.20//NONSGML v1.0//EN
CALSCALE:GREGORIAN
METHOD:PUBLISH
X-ORIGINAL-URL:https://madisonsummercamp.com
X-WR-CALDESC:Events for Madison Summer Camp
REFRESH-INTERVAL;VALUE=DURATION:PT1H
X-Robots-Tag:noindex
X-PUBLISHED-TTL:PT1H
BEGIN:VTIMEZONE
TZID:America/Chicago
BEGIN:DAYLIGHT
TZOFFSETFROM:-0600
TZOFFSETTO:-0500
TZNAME:CDT
DTSTART:20240310T080000
END:DAYLIGHT
BEGIN:STANDARD
TZOFFSETFROM:-0500
TZOFFSETTO:-0600
TZNAME:CST
DTSTART:20241103T070000
END:STANDARD
BEGIN:DAYLIGHT
TZOFFSETFROM:-0600
TZOFFSETTO:-0500
TZNAME:CDT
DTSTART:20250309T080000
END:DAYLIGHT
BEGIN:STANDARD
TZOFFSETFROM:-0500
TZOFFSETTO:-0600
TZNAME:CST
DTSTART:20251102T070000
END:STANDARD
BEGIN:DAYLIGHT
TZOFFSETFROM:-0600
TZOFFSETTO:-0500
TZNAME:CDT
DTSTART:20260308T080000
END:DAYLIGHT
BEGIN:STANDARD
TZOFFSETFROM:-0500
TZOFFSETTO:-0600
TZNAME:CST
DTSTART:20261101T070000
END:STANDARD
END:VTIMEZONE
BEGIN:VEVENT
DTSTART;VALUE=DATE:20250819
DTEND;VALUE=DATE:20250820
DTSTAMP:20260423T182054
CREATED:20250717T182956Z
LAST-MODIFIED:20260210T063449Z
UID:10000022-1755561600-1755647999@madisonsummercamp.com
SUMMARY:Wilderness Waterpark Resort
DESCRIPTION:Enjoy all the amazing waterparks the Wilderness has to offer! Want even more fun? Take your day to the next level with the Wild Fun Pass and experience all of attractions such as the go karts\, arcade games\, high ropes\, laser tag and more! 
URL:https://madisonsummercamp.com/event/wilderness-waterpark-resort-2/
LOCATION:Wilderness Resort\, 511 E Adams\, Wisconsin Dells\, WI\, 53965\, United States
ATTACH;FMTTYPE=image/png:https://madisonsummercamp.com/wp-content/uploads/sites/4/2025/07/Wilderness_Waterpark_Resort-e1752772014960.png
END:VEVENT
BEGIN:VEVENT
DTSTART;VALUE=DATE:20250731
DTEND;VALUE=DATE:20250801
DTSTAMP:20260423T182054
CREATED:20250717T170939Z
LAST-MODIFIED:20250717T170939Z
UID:10000010-1753920000-1754006399@madisonsummercamp.com
SUMMARY:Wilderness Waterpark Resort
DESCRIPTION:Enjoy all the amazing waterparks the Wilderness has to offer! Want even more fun? Take your day to the next level with the Wild Fun Pass and experience all of attractions such as the go karts\, arcade games\, high ropes\, laser tag and more! 
URL:https://madisonsummercamp.com/event/wilderness-waterpark-resort/
LOCATION:Wilderness Resort\, 511 E Adams\, Wisconsin Dells\, WI\, 53965\, United States
ATTACH;FMTTYPE=image/png:https://madisonsummercamp.com/wp-content/uploads/sites/4/2025/07/Wilderness_Waterpark_Resort-e1752772014960.png
END:VEVENT
END:VCALENDAR