BEGIN:VCALENDAR
VERSION:2.0
PRODID:-//Madison Summer Camp - ECPv6.15.20//NONSGML v1.0//EN
CALSCALE:GREGORIAN
METHOD:PUBLISH
X-ORIGINAL-URL:https://madisonsummercamp.com
X-WR-CALDESC:Events for Madison Summer Camp
REFRESH-INTERVAL;VALUE=DURATION:PT1H
X-Robots-Tag:noindex
X-PUBLISHED-TTL:PT1H
BEGIN:VTIMEZONE
TZID:America/Chicago
BEGIN:DAYLIGHT
TZOFFSETFROM:-0600
TZOFFSETTO:-0500
TZNAME:CDT
DTSTART:20240310T080000
END:DAYLIGHT
BEGIN:STANDARD
TZOFFSETFROM:-0500
TZOFFSETTO:-0600
TZNAME:CST
DTSTART:20241103T070000
END:STANDARD
BEGIN:DAYLIGHT
TZOFFSETFROM:-0600
TZOFFSETTO:-0500
TZNAME:CDT
DTSTART:20250309T080000
END:DAYLIGHT
BEGIN:STANDARD
TZOFFSETFROM:-0500
TZOFFSETTO:-0600
TZNAME:CST
DTSTART:20251102T070000
END:STANDARD
BEGIN:DAYLIGHT
TZOFFSETFROM:-0600
TZOFFSETTO:-0500
TZNAME:CDT
DTSTART:20260308T080000
END:DAYLIGHT
BEGIN:STANDARD
TZOFFSETFROM:-0500
TZOFFSETTO:-0600
TZNAME:CST
DTSTART:20261101T070000
END:STANDARD
END:VTIMEZONE
BEGIN:VEVENT
DTSTART;VALUE=DATE:20250729
DTEND;VALUE=DATE:20250730
DTSTAMP:20260423T230623
CREATED:20250723T180102Z
LAST-MODIFIED:20250723T180102Z
UID:10000035-1753747200-1753833599@madisonsummercamp.com
SUMMARY:Park Tour: Haskins Park
DESCRIPTION:Summer Adventure Camp will be headed on a park tour every Tuesday. This all-day field trip will feature a different park every week where we will take advantage of what each location has to offer. This may include hikes\, field games\, kickball\, messy crafts\, and\, of course\, time to play on the playground!
URL:https://madisonsummercamp.com/event/park-tour-haskins-park/
LOCATION:Haskins Park\, 143-145 Shaw St\, Baraboo\, WI\, 53913\, United States
ATTACH;FMTTYPE=image/jpeg:https://madisonsummercamp.com/wp-content/uploads/sites/4/2025/07/Haskins_Park_Field_Trip-scaled.jpg
END:VEVENT
END:VCALENDAR