BEGIN:VCALENDAR
VERSION:2.0
PRODID:-//Madison Summer Camp - ECPv6.15.20//NONSGML v1.0//EN
CALSCALE:GREGORIAN
METHOD:PUBLISH
X-WR-CALNAME:Madison Summer Camp
X-ORIGINAL-URL:https://madisonsummercamp.com
X-WR-CALDESC:Events for Madison Summer Camp
REFRESH-INTERVAL;VALUE=DURATION:PT1H
X-Robots-Tag:noindex
X-PUBLISHED-TTL:PT1H
BEGIN:VTIMEZONE
TZID:America/Chicago
BEGIN:DAYLIGHT
TZOFFSETFROM:-0600
TZOFFSETTO:-0500
TZNAME:CDT
DTSTART:20250309T080000
END:DAYLIGHT
BEGIN:STANDARD
TZOFFSETFROM:-0500
TZOFFSETTO:-0600
TZNAME:CST
DTSTART:20251102T070000
END:STANDARD
BEGIN:DAYLIGHT
TZOFFSETFROM:-0600
TZOFFSETTO:-0500
TZNAME:CDT
DTSTART:20260308T080000
END:DAYLIGHT
BEGIN:STANDARD
TZOFFSETFROM:-0500
TZOFFSETTO:-0600
TZNAME:CST
DTSTART:20261101T070000
END:STANDARD
BEGIN:DAYLIGHT
TZOFFSETFROM:-0600
TZOFFSETTO:-0500
TZNAME:CDT
DTSTART:20270314T080000
END:DAYLIGHT
BEGIN:STANDARD
TZOFFSETFROM:-0500
TZOFFSETTO:-0600
TZNAME:CST
DTSTART:20271107T070000
END:STANDARD
END:VTIMEZONE
BEGIN:VEVENT
DTSTART;VALUE=DATE:20260626
DTEND;VALUE=DATE:20260627
DTSTAMP:20260423T181456
CREATED:20250717T171157Z
LAST-MODIFIED:20260213T212807Z
UID:10000011-1782432000-1782518399@madisonsummercamp.com
SUMMARY:Devil's Lake
DESCRIPTION:A day of exploring one of Wisconsin’s magnificent state parks. Come ready to discover new trails\, test out your fishing skills\, or bring your hammock to hang and chill. There are so many activities available as we enjoy the great outdoors together at Devil’s Lake.
URL:https://madisonsummercamp.com/event/devils-lake-2/
LOCATION:Devil’s Lake\, N Shore Rd\, Baraboo\, WI\, 53913\, United States
ATTACH;FMTTYPE=image/jpeg:https://madisonsummercamp.com/wp-content/uploads/sites/4/2025/07/Devils_Lake.jpg
END:VEVENT
BEGIN:VEVENT
DTSTART;VALUE=DATE:20260710
DTEND;VALUE=DATE:20260711
DTSTAMP:20260423T181456
CREATED:20260213T213007Z
LAST-MODIFIED:20260213T213007Z
UID:10000233-1783641600-1783727999@madisonsummercamp.com
SUMMARY:Devil's Lake
DESCRIPTION:A day of exploring one of Wisconsin’s magnificent state parks. Come ready to discover new trails\, test out your fishing skills\, or bring your hammock to hang and chill. There are so many activities available as we enjoy the great outdoors together at Devil’s Lake.
URL:https://madisonsummercamp.com/event/devils-lake-3/
LOCATION:Devil’s Lake\, N Shore Rd\, Baraboo\, WI\, 53913\, United States
ATTACH;FMTTYPE=image/jpeg:https://madisonsummercamp.com/wp-content/uploads/sites/4/2025/07/Devils_Lake.jpg
END:VEVENT
BEGIN:VEVENT
DTSTART;VALUE=DATE:20260807
DTEND;VALUE=DATE:20260808
DTSTAMP:20260423T181456
CREATED:20260213T213110Z
LAST-MODIFIED:20260213T213110Z
UID:10000234-1786060800-1786147199@madisonsummercamp.com
SUMMARY:Devil's Lake
DESCRIPTION:A day of exploring one of Wisconsin’s magnificent state parks. Come ready to discover new trails\, test out your fishing skills\, or bring your hammock to hang and chill. There are so many activities available as we enjoy the great outdoors together at Devil’s Lake.
URL:https://madisonsummercamp.com/event/devils-lake-4/
LOCATION:Devil’s Lake\, N Shore Rd\, Baraboo\, WI\, 53913\, United States
ATTACH;FMTTYPE=image/jpeg:https://madisonsummercamp.com/wp-content/uploads/sites/4/2025/07/Devils_Lake.jpg
END:VEVENT
BEGIN:VEVENT
DTSTART;VALUE=DATE:20260821
DTEND;VALUE=DATE:20260822
DTSTAMP:20260423T181456
CREATED:20260213T213201Z
LAST-MODIFIED:20260213T213201Z
UID:10000235-1787270400-1787356799@madisonsummercamp.com
SUMMARY:Devil's Lake
DESCRIPTION:A day of exploring one of Wisconsin’s magnificent state parks. Come ready to discover new trails\, test out your fishing skills\, or bring your hammock to hang and chill. There are so many activities available as we enjoy the great outdoors together at Devil’s Lake.
URL:https://madisonsummercamp.com/event/devils-lake-5/
LOCATION:Devil’s Lake\, N Shore Rd\, Baraboo\, WI\, 53913\, United States
ATTACH;FMTTYPE=image/jpeg:https://madisonsummercamp.com/wp-content/uploads/sites/4/2025/07/Devils_Lake.jpg
END:VEVENT
BEGIN:VEVENT
DTSTART;VALUE=DATE:20260824
DTEND;VALUE=DATE:20260825
DTSTAMP:20260423T181456
CREATED:20260213T213250Z
LAST-MODIFIED:20260213T213250Z
UID:10000236-1787529600-1787615999@madisonsummercamp.com
SUMMARY:Devil's Lake
DESCRIPTION:A day of exploring one of Wisconsin’s magnificent state parks. Come ready to discover new trails\, test out your fishing skills\, or bring your hammock to hang and chill. There are so many activities available as we enjoy the great outdoors together at Devil’s Lake.
URL:https://madisonsummercamp.com/event/devils-lake-6/
LOCATION:Devil’s Lake\, N Shore Rd\, Baraboo\, WI\, 53913\, United States
ATTACH;FMTTYPE=image/jpeg:https://madisonsummercamp.com/wp-content/uploads/sites/4/2025/07/Devils_Lake.jpg
END:VEVENT
END:VCALENDAR