BEGIN:VCALENDAR
VERSION:2.0
PRODID:-//Madison Summer Camp - ECPv6.15.20//NONSGML v1.0//EN
CALSCALE:GREGORIAN
METHOD:PUBLISH
X-ORIGINAL-URL:https://madisonsummercamp.com
X-WR-CALDESC:Events for Madison Summer Camp
REFRESH-INTERVAL;VALUE=DURATION:PT1H
X-Robots-Tag:noindex
X-PUBLISHED-TTL:PT1H
BEGIN:VTIMEZONE
TZID:America/Chicago
BEGIN:DAYLIGHT
TZOFFSETFROM:-0600
TZOFFSETTO:-0500
TZNAME:CDT
DTSTART:20250309T080000
END:DAYLIGHT
BEGIN:STANDARD
TZOFFSETFROM:-0500
TZOFFSETTO:-0600
TZNAME:CST
DTSTART:20251102T070000
END:STANDARD
BEGIN:DAYLIGHT
TZOFFSETFROM:-0600
TZOFFSETTO:-0500
TZNAME:CDT
DTSTART:20260308T080000
END:DAYLIGHT
BEGIN:STANDARD
TZOFFSETFROM:-0500
TZOFFSETTO:-0600
TZNAME:CST
DTSTART:20261101T070000
END:STANDARD
BEGIN:DAYLIGHT
TZOFFSETFROM:-0600
TZOFFSETTO:-0500
TZNAME:CDT
DTSTART:20270314T080000
END:DAYLIGHT
BEGIN:STANDARD
TZOFFSETFROM:-0500
TZOFFSETTO:-0600
TZNAME:CST
DTSTART:20271107T070000
END:STANDARD
END:VTIMEZONE
BEGIN:VEVENT
DTSTART;VALUE=DATE:20260618
DTEND;VALUE=DATE:20260619
DTSTAMP:20260423T115323
CREATED:20250717T175515Z
LAST-MODIFIED:20260213T210135Z
UID:10000017-1781740800-1781827199@madisonsummercamp.com
SUMMARY:Milwaukee County Zoo
DESCRIPTION:The Milwaukee County Zoo\, located on 190 acres in Milwaukee\, Wisconsin\, is a premier zoological attraction housing over 2\,200 animals across 340 species\, including notable bonobo and cheetah populations. It offers educational wildlife shows\, engaging special events\, and a variety of family-friendly attractions year-round
URL:https://madisonsummercamp.com/event/milwaukee-county-zoo/
LOCATION:Milwaukee County Zoo\, 10001 W Bluemound Rd\, Milwaukee\, WI\, 53226\, United States
ATTACH;FMTTYPE=image/jpeg:https://madisonsummercamp.com/wp-content/uploads/sites/4/2025/07/Summer_Camp_Senior_Zoo_Trip.jpeg
END:VEVENT
BEGIN:VEVENT
DTSTART;VALUE=DATE:20260618
DTEND;VALUE=DATE:20260619
DTSTAMP:20260423T115323
CREATED:20260213T200255Z
LAST-MODIFIED:20260213T204111Z
UID:10000211-1781740800-1781827199@madisonsummercamp.com
SUMMARY:Circus World Museum
DESCRIPTION:Summer Adventure Camp is headed to the Circus World Museum! Campers love to watch the circus and learn a little bit of circus-related history!
URL:https://madisonsummercamp.com/event/circus-world-museum/
ATTACH;FMTTYPE=image/jpeg:https://madisonsummercamp.com/wp-content/uploads/sites/4/2026/02/G1_CIRCUSWORLD_4C.jpg
END:VEVENT
END:VCALENDAR